BEGIN:VCALENDAR
VERSION:2.0
PRODID:-//Batterie-Fanfare d&#039;Airaines - ECPv6.3.5//NONSGML v1.0//EN
CALSCALE:GREGORIAN
METHOD:PUBLISH
X-WR-CALNAME:Batterie-Fanfare d&#039;Airaines
X-ORIGINAL-URL:https://www.bf-airaines.com
X-WR-CALDESC:évènements pour Batterie-Fanfare d&#039;Airaines
REFRESH-INTERVAL;VALUE=DURATION:PT1H
X-Robots-Tag:noindex
X-PUBLISHED-TTL:PT1H
BEGIN:VTIMEZONE
TZID:Europe/Helsinki
BEGIN:DAYLIGHT
TZOFFSETFROM:+0200
TZOFFSETTO:+0300
TZNAME:EEST
DTSTART:20230326T010000
END:DAYLIGHT
BEGIN:STANDARD
TZOFFSETFROM:+0300
TZOFFSETTO:+0200
TZNAME:EET
DTSTART:20231029T010000
END:STANDARD
END:VTIMEZONE
BEGIN:VEVENT
DTSTART;TZID=Europe/Helsinki:20230604T103000
DTEND;TZID=Europe/Helsinki:20230604T103000
DTSTAMP:20260419T200108
CREATED:20230530T222120Z
LAST-MODIFIED:20230530T222409Z
UID:1630-1685874600-1685874600@www.bf-airaines.com
SUMMARY:Cérémonie des combats de la Somme
DESCRIPTION:
URL:https://www.bf-airaines.com/event/ceremonie-des-combats-de-la-somme/
LOCATION:Airaines\, Airaines
CATEGORIES:Cérémonie
END:VEVENT
END:VCALENDAR