BEGIN:VCALENDAR
VERSION:2.0
PRODID:-//Batterie-Fanfare d&#039;Airaines - ECPv6.3.5//NONSGML v1.0//EN
CALSCALE:GREGORIAN
METHOD:PUBLISH
X-WR-CALNAME:Batterie-Fanfare d&#039;Airaines
X-ORIGINAL-URL:https://www.bf-airaines.com
X-WR-CALDESC:évènements pour Batterie-Fanfare d&#039;Airaines
REFRESH-INTERVAL;VALUE=DURATION:PT1H
X-Robots-Tag:noindex
X-PUBLISHED-TTL:PT1H
BEGIN:VTIMEZONE
TZID:Europe/Paris
BEGIN:DAYLIGHT
TZOFFSETFROM:+0100
TZOFFSETTO:+0200
TZNAME:CEST
DTSTART:20230326T010000
END:DAYLIGHT
BEGIN:STANDARD
TZOFFSETFROM:+0200
TZOFFSETTO:+0100
TZNAME:CET
DTSTART:20231029T010000
END:STANDARD
END:VTIMEZONE
BEGIN:VEVENT
DTSTART;TZID=Europe/Paris:20230508T103000
DTEND;TZID=Europe/Paris:20230508T123000
DTSTAMP:20260419T220412
CREATED:20230519T222344Z
LAST-MODIFIED:20230519T222344Z
UID:1572-1683541800-1683549000@www.bf-airaines.com
SUMMARY:Cérémonie
DESCRIPTION:
URL:https://www.bf-airaines.com/event/ceremonie-2/
LOCATION:Airaines\, Airaines
END:VEVENT
END:VCALENDAR